BEGIN:VCALENDAR
VERSION:2.0
PRODID:-//The Acton Exchange - ECPv6.15.18//NONSGML v1.0//EN
CALSCALE:GREGORIAN
METHOD:PUBLISH
X-WR-CALNAME:The Acton Exchange
X-ORIGINAL-URL:https://staging.actonexchange.org
X-WR-CALDESC:Events for The Acton Exchange
REFRESH-INTERVAL;VALUE=DURATION:PT1H
X-Robots-Tag:noindex
X-PUBLISHED-TTL:PT1H
BEGIN:VTIMEZONE
TZID:America/New_York
BEGIN:DAYLIGHT
TZOFFSETFROM:-0500
TZOFFSETTO:-0400
TZNAME:EDT
DTSTART:20250309T070000
END:DAYLIGHT
BEGIN:STANDARD
TZOFFSETFROM:-0400
TZOFFSETTO:-0500
TZNAME:EST
DTSTART:20251102T060000
END:STANDARD
BEGIN:DAYLIGHT
TZOFFSETFROM:-0500
TZOFFSETTO:-0400
TZNAME:EDT
DTSTART:20260308T070000
END:DAYLIGHT
BEGIN:STANDARD
TZOFFSETFROM:-0400
TZOFFSETTO:-0500
TZNAME:EST
DTSTART:20261101T060000
END:STANDARD
BEGIN:DAYLIGHT
TZOFFSETFROM:-0500
TZOFFSETTO:-0400
TZNAME:EDT
DTSTART:20270314T070000
END:DAYLIGHT
BEGIN:STANDARD
TZOFFSETFROM:-0400
TZOFFSETTO:-0500
TZNAME:EST
DTSTART:20271107T060000
END:STANDARD
END:VTIMEZONE
BEGIN:VEVENT
DTSTART;TZID=America/New_York:20260424T090000
DTEND;TZID=America/New_York:20260424T133000
DTSTAMP:20260424T130538
CREATED:20260326T011625Z
LAST-MODIFIED:20260326T011625Z
UID:18507-1777021200-1777037400@staging.actonexchange.org
SUMMARY:Library: Patron Appreciation Day - Library Scavenger Hunt!
DESCRIPTION:As a big thank you to our amazing patrons join us at Acton Memorial Library for a Library Scavenger Hunt! \nAre you up for the challenge? Find each book and complete each challenge in the library to win a prize! Check out the AML Solarium for some sweet treats throughout the day. \nAll ages can participate! 
URL:https://staging.actonexchange.org/event/library-patron-appreciation-day-library-scavenger-hunt/
LOCATION:Acton Memorial Library\, 486 Main St.\, Acton\, MA\, 01720\, United States
END:VEVENT
BEGIN:VEVENT
DTSTART;TZID=America/New_York:20260424T190000
DTEND;TZID=America/New_York:20260424T213000
DTSTAMP:20260424T130538
CREATED:20260221T125356Z
LAST-MODIFIED:20260314T192339Z
UID:17734-1777057200-1777066200@staging.actonexchange.org
SUMMARY:Acton Youth Film Festival Screening
DESCRIPTION:Films from teens in Acton and neighboring towns; all genres accepted. \nFilms must be submitted by April 10. \n 
URL:https://staging.actonexchange.org/event/acton-youth-film-festival-screening/
LOCATION:ActonTV\, 16a Craig Road\, Acton\, 01720
END:VEVENT
END:VCALENDAR