BEGIN:VCALENDAR
VERSION:2.0
PRODID:-//The Acton Exchange - ECPv6.15.18//NONSGML v1.0//EN
CALSCALE:GREGORIAN
METHOD:PUBLISH
X-WR-CALNAME:The Acton Exchange
X-ORIGINAL-URL:https://staging.actonexchange.org
X-WR-CALDESC:Events for The Acton Exchange
REFRESH-INTERVAL;VALUE=DURATION:PT1H
X-Robots-Tag:noindex
X-PUBLISHED-TTL:PT1H
BEGIN:VTIMEZONE
TZID:America/New_York
BEGIN:DAYLIGHT
TZOFFSETFROM:-0500
TZOFFSETTO:-0400
TZNAME:EDT
DTSTART:20240310T070000
END:DAYLIGHT
BEGIN:STANDARD
TZOFFSETFROM:-0400
TZOFFSETTO:-0500
TZNAME:EST
DTSTART:20241103T060000
END:STANDARD
BEGIN:DAYLIGHT
TZOFFSETFROM:-0500
TZOFFSETTO:-0400
TZNAME:EDT
DTSTART:20250309T070000
END:DAYLIGHT
BEGIN:STANDARD
TZOFFSETFROM:-0400
TZOFFSETTO:-0500
TZNAME:EST
DTSTART:20251102T060000
END:STANDARD
BEGIN:DAYLIGHT
TZOFFSETFROM:-0500
TZOFFSETTO:-0400
TZNAME:EDT
DTSTART:20260308T070000
END:DAYLIGHT
BEGIN:STANDARD
TZOFFSETFROM:-0400
TZOFFSETTO:-0500
TZNAME:EST
DTSTART:20261101T060000
END:STANDARD
BEGIN:DAYLIGHT
TZOFFSETFROM:-0500
TZOFFSETTO:-0400
TZNAME:EDT
DTSTART:20270314T070000
END:DAYLIGHT
BEGIN:STANDARD
TZOFFSETFROM:-0400
TZOFFSETTO:-0500
TZNAME:EST
DTSTART:20271107T060000
END:STANDARD
END:VTIMEZONE
BEGIN:VEVENT
DTSTART;TZID=America/New_York:20250422T150000
DTEND;TZID=America/New_York:20250422T160000
DTSTAMP:20260424T030159
CREATED:20250320T183204Z
LAST-MODIFIED:20251227T235413Z
UID:9800-1745334000-1745337600@staging.actonexchange.org
SUMMARY:Library: Yarn & Needle Club
DESCRIPTION:Knitters\, crocheters\, embroiderers\, and sewers\, join the library to work on your project and socialize! We meet every 2nd and 4th Tuesday of the month.
URL:https://staging.actonexchange.org/event/library-yarn-needle-club/
LOCATION:Acton Memorial Library Meeting Room (1st floor)\, 486 Main Street\, Acton\, MA\, 01720\, United States
END:VEVENT
BEGIN:VEVENT
DTSTART;TZID=America/New_York:20260106T100000
DTEND;TZID=America/New_York:20260106T233000
DTSTAMP:20260424T030159
CREATED:20251219T150545Z
LAST-MODIFIED:20251219T150545Z
UID:16355-1767693600-1767742200@staging.actonexchange.org
SUMMARY:Community Focus Groups: Help shape a healthier and more connected Acton
DESCRIPTION:The Town of Acton wants to hear people’s stories\, ideas\, and hopes for making our community stronger and fair for everyone. These small group talks are part of a big project to learn what people need and to help everyone feel healthy\, included\, and supported. \nFor any questions or accessibility accommodations\, send an email to actonforproaction@3×3.co. \nSee a list of the available focus groups and register here: \ntinyurl.com/2sjvdu7b \nAll focus groups are online – Zoom link sent after registration. \nSign Up Today! \nEach session lasts from 60 to 90 minutes and centers on a particular perspective\, but all Town of Acton community members are welcome at any session. Everyone who lives or works in Acton is welcome to join and share their perspective!
URL:https://staging.actonexchange.org/event/community-focus-groups-help-shape-a-healthier-and-more-connected-acton/
LOCATION:Zoom
END:VEVENT
END:VCALENDAR