BEGIN:VCALENDAR
VERSION:2.0
PRODID:-//The Acton Exchange - ECPv6.15.18//NONSGML v1.0//EN
CALSCALE:GREGORIAN
METHOD:PUBLISH
X-ORIGINAL-URL:https://staging.actonexchange.org
X-WR-CALDESC:Events for The Acton Exchange
REFRESH-INTERVAL;VALUE=DURATION:PT1H
X-Robots-Tag:noindex
X-PUBLISHED-TTL:PT1H
BEGIN:VTIMEZONE
TZID:America/New_York
BEGIN:DAYLIGHT
TZOFFSETFROM:-0500
TZOFFSETTO:-0400
TZNAME:EDT
DTSTART:20240310T070000
END:DAYLIGHT
BEGIN:STANDARD
TZOFFSETFROM:-0400
TZOFFSETTO:-0500
TZNAME:EST
DTSTART:20241103T060000
END:STANDARD
BEGIN:DAYLIGHT
TZOFFSETFROM:-0500
TZOFFSETTO:-0400
TZNAME:EDT
DTSTART:20250309T070000
END:DAYLIGHT
BEGIN:STANDARD
TZOFFSETFROM:-0400
TZOFFSETTO:-0500
TZNAME:EST
DTSTART:20251102T060000
END:STANDARD
BEGIN:DAYLIGHT
TZOFFSETFROM:-0500
TZOFFSETTO:-0400
TZNAME:EDT
DTSTART:20260308T070000
END:DAYLIGHT
BEGIN:STANDARD
TZOFFSETFROM:-0400
TZOFFSETTO:-0500
TZNAME:EST
DTSTART:20261101T060000
END:STANDARD
END:VTIMEZONE
BEGIN:VEVENT
DTSTART;TZID=America/New_York:20251121T100000
DTEND;TZID=America/New_York:20251121T110000
DTSTAMP:20260423T070223
CREATED:20251103T161507Z
LAST-MODIFIED:20251103T161507Z
UID:15442-1763719200-1763722800@staging.actonexchange.org
SUMMARY:ACTON COA Invites You to our Ukulele Play Along
DESCRIPTION:New monthly series! Have you learned the basics of ukulele from Julie Stepanek’s earlier classes and are ready for more? Join Julie for a monthly play along. After a short review and Q&A\, participants will play some fun and easy songs because one learns to play the ukulele by playing the ukulele! When you sign up\, please indicate whether you will bring your own ukulele or use one provided by Julie. Group will typically meet on the third Friday each month but watch the newsletter for dates. \nSign up once at seniorcenter@actonma.gov to attend this monthly series\, but please let the Council on Aging know if you are not continuing. \nOpen to out-of-towners age 60+ for $5/month
URL:https://staging.actonexchange.org/event/acton-coa-invites-you-to-our-ukulele-play-along/
LOCATION:Acton Senior Center\, 30 Sudbury Road Rear\, Acton\, MA\, 01720
ORGANIZER;CN="Acton Council on Aging":MAILTO:seniorcenter@actonma.gov
END:VEVENT
BEGIN:VEVENT
DTSTART;TZID=America/New_York:20251121T100000
DTEND;TZID=America/New_York:20251121T190000
DTSTAMP:20260423T070223
CREATED:20251022T211830Z
LAST-MODIFIED:20251122T194707Z
UID:15271-1763719200-1763751600@staging.actonexchange.org
SUMMARY:Pink Friday 2025 in West Acton
DESCRIPTION:Pink Friday is a nationwide event dedicated to celebrating and supporting small and local businesses like ours\, the weekend BEFORE Black Friday. The goal is to get you to remember all the small shops in your own neighborhoods\, and to shop small first before going to the big box stores.\n\nParticipating stores:\n\nHOME (home decor + unique gifts)\nWish (Clothing and accessories)\nSmudge Ink (Greetings cards\, stationary\, wrapping paper)\nSilver Unicorn (bookstore)\nE. Drumm Designs (art + gifts)\nEve and Murray’s (gifts for foodies!)\n\nAnd childcare too! Danny’s Place Youth Center will provide childcare for $30 from 5 – 7:30 PM so that you can drop ‘n shop!
URL:https://staging.actonexchange.org/event/pink-friday-2025-in-west-acton/
LOCATION:West Acton Village\, 588 Mass Ave\, Acton\, MA\, 01720
END:VEVENT
BEGIN:VEVENT
DTSTART;TZID=America/New_York:20251121T183000
DTEND;TZID=America/New_York:20251121T200000
DTSTAMP:20260423T070223
CREATED:20251029T235350Z
LAST-MODIFIED:20251029T235350Z
UID:15391-1763749800-1763755200@staging.actonexchange.org
SUMMARY:Acton Lions 45th Annual Ski and Skate Sale Drop Off
DESCRIPTION:Sell or buy all your winter sporting gear (skis\, boots\, poles\, skates\, and more!) \nGear Drop-off  \n\nFriday November 21st; 6:30 – 8 pm\nSaturday November 22nd; 8 – 10 am\n\nSale \n\nSaturday November 22nd; 11 am – 4 pm\nSunday November 23rd; 10 am – 2 pm\n\nPay-out or Pick-up:  Sunday November 23rd; 3 – 5 pm \nPick up unsold items and consignment payout Sunday\, Nov. 23rd\, 3 – 5 pm. \nThe Lions Club will pay consignment donors 70% of the sale price of each item\nsold. \nAny items not picked up by 5 p.m. on Nov. 23rd will be considered a donation. \nAll money raised goes to local charities.
URL:https://staging.actonexchange.org/event/acton-lions-45th-annual-ski-and-skate-sale-drop-off/
LOCATION:Luther Conant Elementary School\, 80 Taylor Road\,\, Acton\, MA\, 01720\, United States
ORGANIZER;CN="Acton Lions Club":MAILTO:acton_lions@hotmail.com
END:VEVENT
BEGIN:VEVENT
DTSTART;TZID=America/New_York:20251121T183000
DTEND;TZID=America/New_York:20251121T203000
DTSTAMP:20260423T070223
CREATED:20251119T233521Z
LAST-MODIFIED:20251119T233521Z
UID:15926-1763749800-1763757000@staging.actonexchange.org
SUMMARY:Science Family Night
DESCRIPTION:Spark Curiosity. Ignite Discovery!\nWhere young spirits inspire younger spirits \nWelcome all elementary school students and their families. \n\nCodebuster: Crack the code. Control the message!\nCircuit Lab: Discover how electricity and magnetism works!\nBungee Drop: Releåse a weighted elastic cord +measure the closest distance to the floor\nForensics: Find the facts. Follow the evidence!\n\nHosted by ABRHS STEM Clubs. \nJoin activities led by: Science Team\, DNA Club\, Envirothon\, Girls in Science\, Neuroscience Club\,\,and more! \n$5 per family.
URL:https://staging.actonexchange.org/event/science-family-night/
LOCATION:ABRHS Cafeterua\, 36 Charter Rd\, Acton\, MA\, 01720
END:VEVENT
BEGIN:VEVENT
DTSTART;TZID=America/New_York:20251114T193000
DTEND;TZID=America/New_York:20251114T220000
DTSTAMP:20260423T070223
CREATED:20251103T172342Z
LAST-MODIFIED:20251103T172342Z
UID:15644-1763148600-1763157600@staging.actonexchange.org
SUMMARY:Savoyard Light Opera Company presents "How to Succeed in Business Without Really Trying"
DESCRIPTION:The Savoyard Light Opera Company is proud to present How to Succeed in Business Without Really Trying\, the musical and comedic satire of corporate culture and the ruthless pursuit of success. Can the Voice of a Book tell you all you need to know about getting to the top of the executive ladder? A young window washer hopes so\, in this rags-to-riches story\, set in 1961. Memorable characters\, a funny story line\, and satisfying classic Broadway numbers will keep you wildly entertained\, while you contemplate all that has changed – and not changed – about power dynamics and ambition.
URL:https://staging.actonexchange.org/event/savoyard-light-opera-company-presents-how-to-succeed-in-business-without-really-trying/
LOCATION:Corey Auditorium (Carlisle Public School)\, 83 School Street (for GPS use Church St. Entrance)\, Carlisle\, MA\, 01741\, United States
END:VEVENT
END:VCALENDAR