BEGIN:VCALENDAR
VERSION:2.0
PRODID:-//The Acton Exchange - ECPv6.15.18//NONSGML v1.0//EN
CALSCALE:GREGORIAN
METHOD:PUBLISH
X-ORIGINAL-URL:https://staging.actonexchange.org
X-WR-CALDESC:Events for The Acton Exchange
REFRESH-INTERVAL;VALUE=DURATION:PT1H
X-Robots-Tag:noindex
X-PUBLISHED-TTL:PT1H
BEGIN:VTIMEZONE
TZID:America/New_York
BEGIN:DAYLIGHT
TZOFFSETFROM:-0500
TZOFFSETTO:-0400
TZNAME:EDT
DTSTART:20240310T070000
END:DAYLIGHT
BEGIN:STANDARD
TZOFFSETFROM:-0400
TZOFFSETTO:-0500
TZNAME:EST
DTSTART:20241103T060000
END:STANDARD
BEGIN:DAYLIGHT
TZOFFSETFROM:-0500
TZOFFSETTO:-0400
TZNAME:EDT
DTSTART:20250309T070000
END:DAYLIGHT
BEGIN:STANDARD
TZOFFSETFROM:-0400
TZOFFSETTO:-0500
TZNAME:EST
DTSTART:20251102T060000
END:STANDARD
BEGIN:DAYLIGHT
TZOFFSETFROM:-0500
TZOFFSETTO:-0400
TZNAME:EDT
DTSTART:20260308T070000
END:DAYLIGHT
BEGIN:STANDARD
TZOFFSETFROM:-0400
TZOFFSETTO:-0500
TZNAME:EST
DTSTART:20261101T060000
END:STANDARD
END:VTIMEZONE
BEGIN:VEVENT
DTSTART;TZID=America/New_York:20251013T090000
DTEND;TZID=America/New_York:20251013T120000
DTSTAMP:20260423T053153
CREATED:20251003T190236Z
LAST-MODIFIED:20251003T190236Z
UID:14765-1760346000-1760356800@staging.actonexchange.org
SUMMARY:Danny's Place School Days Off
DESCRIPTION:Join the School Days Off at Danny’s Place! Kids in grades K–5 can attend from 9 AM–12 PM and enjoy a day of themed activities\, games\, and creative fun. Whether the day’s focus is tied to a holiday or simply a special seasonal activity\, it’s always a great time to connect\, learn\, and play. \nSchool Days Off are offered individually (or as a membership). \n$75.00 per kid per session.
URL:https://staging.actonexchange.org/event/dannys-place-school-days-off/
LOCATION:Danny’s Place\, 543 Mass Ave.\, Acton\, MA\, 01720
END:VEVENT
BEGIN:VEVENT
DTSTART;TZID=America/New_York:20251027T180000
DTEND;TZID=America/New_York:20251027T190000
DTSTAMP:20260423T053153
CREATED:20251003T200203Z
LAST-MODIFIED:20251003T200203Z
UID:14727-1761588000-1761591600@staging.actonexchange.org
SUMMARY:Library: Meditation Series - Awakening the Inner Powers of the Soul
DESCRIPTION:Register on the program page on our website.  \nUse this three-week program to journey inward to rediscover peace\, harmony\, and the hidden powers of the soul through this unique meditation practice. Gain insights into how your thoughts shape your inner world and relationships. Through engaging sessions focused on silence\, self-reflection\, and soul-consciousness\, you’ll explore the profound question\, “Who am I?” and develop practical tools for inner strength\, clarity\, emotional resilience\, and lasting self-esteem. \nFree event – Conducted by Brahma Kumaris Meditation Center\, Watertown\, MA\n \nReasonable accommodations for individuals with disabilities are available upon request by emailing library@actonma.gov.
URL:https://staging.actonexchange.org/event/library-meditation-series-awakening-the-inner-powers-of-the-soul/
LOCATION:Acton Memorial Library Meeting Room (1st floor)\, 486 Main Street\, Acton\, MA\, 01720\, United States
END:VEVENT
BEGIN:VEVENT
DTSTART;TZID=America/New_York:20251110T190000
DTEND;TZID=America/New_York:20251110T203000
DTSTAMP:20260423T053153
CREATED:20251022T212429Z
LAST-MODIFIED:20251029T155305Z
UID:15273-1762801200-1762806600@staging.actonexchange.org
SUMMARY:Acton 250: British Naval Power in the Revolution
DESCRIPTION:Due to the speaker’s request\, this event has been canceled.
URL:https://staging.actonexchange.org/event/acton-250-british-naval-power-in-the-revolution/
LOCATION:Acton Town Hall\, Room 204\, 472 Main Street\, Acton\, MA\, 01720
END:VEVENT
END:VCALENDAR