BEGIN:VCALENDAR
VERSION:2.0
PRODID:-//The Acton Exchange - ECPv6.15.18//NONSGML v1.0//EN
CALSCALE:GREGORIAN
METHOD:PUBLISH
X-ORIGINAL-URL:https://staging.actonexchange.org
X-WR-CALDESC:Events for The Acton Exchange
REFRESH-INTERVAL;VALUE=DURATION:PT1H
X-Robots-Tag:noindex
X-PUBLISHED-TTL:PT1H
BEGIN:VTIMEZONE
TZID:America/New_York
BEGIN:DAYLIGHT
TZOFFSETFROM:-0500
TZOFFSETTO:-0400
TZNAME:EDT
DTSTART:20240310T070000
END:DAYLIGHT
BEGIN:STANDARD
TZOFFSETFROM:-0400
TZOFFSETTO:-0500
TZNAME:EST
DTSTART:20241103T060000
END:STANDARD
BEGIN:DAYLIGHT
TZOFFSETFROM:-0500
TZOFFSETTO:-0400
TZNAME:EDT
DTSTART:20250309T070000
END:DAYLIGHT
BEGIN:STANDARD
TZOFFSETFROM:-0400
TZOFFSETTO:-0500
TZNAME:EST
DTSTART:20251102T060000
END:STANDARD
BEGIN:DAYLIGHT
TZOFFSETFROM:-0500
TZOFFSETTO:-0400
TZNAME:EDT
DTSTART:20260308T070000
END:DAYLIGHT
BEGIN:STANDARD
TZOFFSETFROM:-0400
TZOFFSETTO:-0500
TZNAME:EST
DTSTART:20261101T060000
END:STANDARD
END:VTIMEZONE
BEGIN:VEVENT
DTSTART;TZID=America/New_York:20251108T100000
DTEND;TZID=America/New_York:20251108T140000
DTSTAMP:20260423T053230
CREATED:20251017T175245Z
LAST-MODIFIED:20251017T175245Z
UID:15186-1762596000-1762610400@staging.actonexchange.org
SUMMARY:Acton Pumpkin Smash!
DESCRIPTION:The Pumpkin Smash is BACK! 💥🎃 \nDon’t toss your jack-o’-lanterns—SMASH them! Join us on Saturday\, Nov 8 at the NARA lower parking lot for some smashing fun! Bring your leftover pumpkins and help us turn them into compost\, not landfill waste. \nFor more information\, see actonma.gov/sustainability or contact sustainability@actonma.gov.
URL:https://staging.actonexchange.org/event/acton-pumpkin-smash/
LOCATION:NARA Park Bath House Pavilion\, 25 Ledge Rock Way\, Acton\, MA\, 01720\, United States
ORGANIZER;CN="Acton Sustainability Office":MAILTO:sustainability@actonma.gov
END:VEVENT
BEGIN:VEVENT
DTSTART;TZID=America/New_York:20251107T153000
DTEND;TZID=America/New_York:20251107T193000
DTSTAMP:20260423T053230
CREATED:20251030T004331Z
LAST-MODIFIED:20251030T004331Z
UID:15414-1762529400-1762543800@staging.actonexchange.org
SUMMARY:Discovery Museum: Bessie's Closet\, pop-up clothing shop
DESCRIPTION:Discovery Museum will host a free-of-charge pop-up clothing shop\, called “Bessie’s Closet\,” November 7 through 9\, 2025. Donations of new or gently used clean clothing in any size are being collected through November 1. A collection box is located in the Museum’s lobby. \nBessie’s Closet will be open to all on Friday\, November 7\, 3:30pm – 7:30pm and Saturday and Sunday\, November 8 and 9\, 10:00am – 3:00pm. Paid museum admission is not required to shop\, nor is it included. \nBessie’s Closet began as a staff-led initiative in 2022. Two events have been held each year since then and more than 2\,000lbs of clothing and shoes are distributed at each.
URL:https://staging.actonexchange.org/event/discovery-museum-bessies-closet-pop-up-clothing-shop/
LOCATION:Discovery Museum\, 177 Main St.\, Acton\, MA\, 01720\, United States
ORGANIZER;CN="Discovery Museum":MAILTO:fun@DiscoveryActon.org
END:VEVENT
BEGIN:VEVENT
DTSTART;TZID=America/New_York:20251108T140000
DTEND;TZID=America/New_York:20251108T150000
DTSTAMP:20260423T053230
CREATED:20250916T233456Z
LAST-MODIFIED:20250916T233908Z
UID:14368-1762610400-1762614000@staging.actonexchange.org
SUMMARY:Friends of Pine Hawk: Native Stewardship of Mother Earth
DESCRIPTION:Nashoba Praying Indian Grand Chief Quiet Storm will talk about how we as a community can be good stewards of the land in all spaces. She will also highlight how we can better support the pollinators and biodiversity that we rely on to sustain our life on Mother Earth. \nFriends of Pine Hawk events are free but for talks like this registration is strongly encouraged at https://tinyurl.com/2025-Pinehawk.
URL:https://staging.actonexchange.org/event/native-stewardship-of-mother-earth/
LOCATION:Acton Memorial Library Meeting Room (1st floor)\, 486 Main Street\, Acton\, MA\, 01720\, United States
ORGANIZER;CN="Friends of Pine Hawk":MAILTO:friends.of.pinehawk@gmail.com
END:VEVENT
END:VCALENDAR